{ "currentVersion": 10.9, "cimVersion": "2.7.0", "serviceDescription": "
This cached service displays imagery of the City of Johns Creek, GA that was captured in 2020.<\/SPAN><\/P><\/DIV>",
"mapName": "Imagery2021_Stateplane_withContours",
"description": " This cached service displays imagery of the City of Johns Creek, GA that was captured in 2020.<\/SPAN><\/P><\/DIV>",
"copyrightText": "City of Johns Creek, GA",
"supportsDynamicLayers": true,
"layers": [
{
"id": 1,
"name": "Imagery2021",
"parentLayerId": -1,
"defaultVisibility": true,
"subLayerIds": null,
"minScale": 0,
"maxScale": 0,
"type": "Raster Layer",
"supportsDynamicLegends": true
}
],
"tables": [],
"spatialReference": {
"wkid": 102667,
"latestWkid": 2240,
"xyTolerance": 0.003280833333333333,
"zTolerance": 0.001,
"mTolerance": 0.001,
"falseX": -16150100,
"falseY": -43703500,
"xyUnits": 3048.0060960121928,
"falseZ": -100000,
"zUnits": 10000,
"falseM": -100000,
"mUnits": 10000
},
"singleFusedMapCache": true,
"tileInfo": {
"rows": 256,
"cols": 256,
"dpi": 96,
"format": "Mixed",
"compressionQuality": 75,
"origin": {
"x": -3.051491447088597E7,
"y": 2.1919848371993378E7
},
"spatialReference": {
"wkid": 102667,
"latestWkid": 2240,
"xyTolerance": 0.003280833333333333,
"zTolerance": 0.001,
"mTolerance": 0.001,
"falseX": -16150100,
"falseY": -43703500,
"xyUnits": 3048.0060960121928,
"falseZ": -100000,
"zUnits": 10000,
"falseM": -100000,
"mUnits": 10000
},
"lods": [
{
"level": 0,
"resolution": 256339.8265954633,
"scale": 2.9530407084611547E8
},
{
"level": 1,
"resolution": 128169.91329773165,
"scale": 1.4765203542305773E8
},
{
"level": 2,
"resolution": 64084.956648865824,
"scale": 7.382601771152887E7
},
{
"level": 3,
"resolution": 32042.478324432912,
"scale": 3.6913008855764434E7
},
{
"level": 4,
"resolution": 16021.239162216456,
"scale": 1.8456504427882217E7
},
{
"level": 5,
"resolution": 8010.619581108228,
"scale": 9228252.213941108
},
{
"level": 6,
"resolution": 4005.309790554114,
"scale": 4614126.106970554
},
{
"level": 7,
"resolution": 2002.654895277057,
"scale": 2307063.053485277
},
{
"level": 8,
"resolution": 1001.3274476385285,
"scale": 1153531.5267426386
},
{
"level": 9,
"resolution": 500.66372381926425,
"scale": 576765.7633713193
},
{
"level": 10,
"resolution": 250.33186190963212,
"scale": 288382.88168565964
},
{
"level": 11,
"resolution": 125.16593095481606,
"scale": 144191.44084282982
},
{
"level": 12,
"resolution": 62.58296547740803,
"scale": 72095.72042141491
},
{
"level": 13,
"resolution": 31.291482738704016,
"scale": 36047.860210707455
},
{
"level": 14,
"resolution": 15.645741369352008,
"scale": 18023.930105353727
},
{
"level": 15,
"resolution": 7.822870684676004,
"scale": 9011.965052676864
},
{
"level": 16,
"resolution": 3.911435342338002,
"scale": 4505.982526338432
},
{
"level": 17,
"resolution": 1.955717671169001,
"scale": 2252.991263169216
},
{
"level": 18,
"resolution": 0.9778588355845005,
"scale": 1126.495631584608
}
]
},
"initialExtent": {
"xmin": 2260127.436696249,
"ymin": 1429711.9780154154,
"xmax": 2318761.1254004836,
"ymax": 1505211.8024120484,
"spatialReference": {
"wkid": 102667,
"latestWkid": 2240,
"xyTolerance": 0.003280833333333333,
"zTolerance": 0.001,
"mTolerance": 0.001,
"falseX": -16150100,
"falseY": -43703500,
"xyUnits": 3048.0060960121928,
"falseZ": -100000,
"zUnits": 10000,
"falseM": -100000,
"mUnits": 10000
}
},
"fullExtent": {
"xmin": 2258050,
"ymin": 1446474,
"xmax": 2319824.75,
"ymax": 1490461.5,
"spatialReference": {
"wkid": 102667,
"latestWkid": 2240,
"xyTolerance": 0.003280833333333333,
"zTolerance": 0.001,
"mTolerance": 0.001,
"falseX": -16150100,
"falseY": -43703500,
"xyUnits": 3048.0060960121928,
"falseZ": -100000,
"zUnits": 10000,
"falseM": -100000,
"mUnits": 10000
}
},
"minScale": 144191.44084282982,
"maxScale": 4505.982526338432,
"units": "esriFeet",
"supportedImageFormatTypes": "PNG32,PNG24,PNG,JPG,DIB,TIFF,EMF,PS,PDF,GIF,SVG,SVGZ,BMP",
"documentInfo": {
"Title": "Imagery2020_Stateplane",
"Author": "",
"Comments": " This cached service displays imagery of the City of Johns Creek, GA that was captured in 2020.<\/SPAN><\/P><\/DIV>",
"Subject": "This cached service displays imagery of the City of Johns Creek, GA that was captured in 2020.",
"Category": "",
"AntialiasingMode": "None",
"TextAntialiasingMode": "Force",
"Version": "2.7.0",
"Keywords": "imagery,2020,aerial,johns creek"
},
"capabilities": "Map,Query,Data",
"supportedQueryFormats": "JSON, geoJSON, PBF",
"exportTilesAllowed": false,
"referenceScale": 0.0,
"datumTransformations": [
{
"geoTransforms": [
{
"wkid": 108190,
"latestWkid": 108190,
"transformForward": false,
"name": "WGS_1984_(ITRF00)_To_NAD_1983"
}
]
},
{
"geoTransforms": [
{
"wkid": 108190,
"latestWkid": 108190,
"transformForward": true,
"name": "WGS_1984_(ITRF00)_To_NAD_1983"
}
]
},
{
"geoTransforms": [
{
"wkid": 108363,
"latestWkid": 108363,
"transformForward": false,
"name": "WGS_1984_(ITRF08)_To_NAD_1983_2011"
},
{
"wkid": 108190,
"latestWkid": 108190,
"transformForward": true,
"name": "WGS_1984_(ITRF00)_To_NAD_1983"
}
]
},
{
"geoTransforms": [
{
"wkid": 108190,
"latestWkid": 108190,
"transformForward": false,
"name": "WGS_1984_(ITRF00)_To_NAD_1983"
},
{
"wkid": 108363,
"latestWkid": 108363,
"transformForward": true,
"name": "WGS_1984_(ITRF08)_To_NAD_1983_2011"
}
]
}
],
"supportsDatumTransformation": true,
"archivingInfo": {"supportsHistoricMoment": false},
"supportsClipping": true,
"supportsSpatialFilter": true,
"supportsTimeRelation": true,
"supportsQueryDataElements": true,
"maxRecordCount": 2000,
"maxImageHeight": 4096,
"maxImageWidth": 4096,
"supportedExtensions": "WMSServer"
}